BEGIN:VCALENDAR
VERSION:2.0
PRODID:-//Canada China Business Council (CCBC) - ECPv6.15.12.2//NONSGML v1.0//EN
CALSCALE:GREGORIAN
METHOD:PUBLISH
X-WR-CALNAME:Canada China Business Council (CCBC)
X-ORIGINAL-URL:https://ccbc.com
X-WR-CALDESC:Events for Canada China Business Council (CCBC)
REFRESH-INTERVAL;VALUE=DURATION:PT1H
X-Robots-Tag:noindex
X-PUBLISHED-TTL:PT1H
BEGIN:VTIMEZONE
TZID:America/Edmonton
BEGIN:DAYLIGHT
TZOFFSETFROM:-0700
TZOFFSETTO:-0600
TZNAME:MDT
DTSTART:20230312T090000
END:DAYLIGHT
BEGIN:STANDARD
TZOFFSETFROM:-0600
TZOFFSETTO:-0700
TZNAME:MST
DTSTART:20231105T080000
END:STANDARD
BEGIN:DAYLIGHT
TZOFFSETFROM:-0700
TZOFFSETTO:-0600
TZNAME:MDT
DTSTART:20240310T090000
END:DAYLIGHT
BEGIN:STANDARD
TZOFFSETFROM:-0600
TZOFFSETTO:-0700
TZNAME:MST
DTSTART:20241103T080000
END:STANDARD
BEGIN:DAYLIGHT
TZOFFSETFROM:-0700
TZOFFSETTO:-0600
TZNAME:MDT
DTSTART:20250309T090000
END:DAYLIGHT
BEGIN:STANDARD
TZOFFSETFROM:-0600
TZOFFSETTO:-0700
TZNAME:MST
DTSTART:20251102T080000
END:STANDARD
END:VTIMEZONE
BEGIN:VEVENT
DTSTART;TZID=America/Edmonton:20240507T100000
DTEND;TZID=America/Edmonton:20240507T110000
DTSTAMP:20260420T080808
CREATED:20240430T210641Z
LAST-MODIFIED:20240430T210750Z
UID:74007-1715076000-1715079600@ccbc.com
SUMMARY:Webinar: How China Sees the World in 2024
DESCRIPTION:Date: Tuesday\, May 7\, 2024\nTime: 10:00 – 11:00 am MT \nOnline: Zoom \nChina’s relationship with major Western jurisdictions have suffered from increasing bi-directional tensions in the last year. In this context\, it is crucial to understand the Chinese public’s current views on international relations and issues of global concern\, and the factors that shape these perceptions. \nThis webinar discusses a new report by The China Institute\, ‘How China Sees the World in 2024’. The report leverages data from the second iteration of the Chinese Citizens’ Global Perception Survey (CCGPS) conducted by the report’s lead author. CCGPS 2024 is a statistically valid\, national survey looking at Chinese citizens’ perspectives on China’s current relations with global actors\, including\, Australia\, Canada\, EU\, France\, Germany\, India\, Japan\, Russia\, UK and USA. \nThe presentation will examine five key areas of analytical interest: (1) Chinese citizens’ global perception of trusted partners\, and those jurisdictions that may be more antagonistic in the near future; (2) views on China’s global roles; (3) preferences for foreign tourism\, study\, work and emigration; (4) the state of Canada-China relations\, inclusive of economic cooperation and managing security concerns; and\, (5) Chinese citizens’ sources and knowledge of global jurisdictions. The ultimate aim of the presentation is to provide timely\, data-driven evidence that can assist key stakeholders to develop targeted and considered strategies for enlightened and productive engagement with mainland China. \nModerator: \nPhilippe Rheault \nDirector\, The China Institute at the University of Alberta \nSpeaker: \nReza Hasmath\nProfessor in Political Science; Academic Faculty Lead for Research and Public Policy in The China Institute\, at the University of Alberta
URL:https://ccbc.com/event/webinar-how-china-sees-the-world-in-2024/
LOCATION:Zoom Webinar
CATEGORIES:Chinese,English,French,Other Event (French),Other Events (Chinese),Other Events (Chinese),Other Events (English)
END:VEVENT
END:VCALENDAR